BEGIN:VCALENDAR
VERSION:2.0
PRODID:-//Oral Lee Brown Foundation - ECPv6.15.20//NONSGML v1.0//EN
CALSCALE:GREGORIAN
METHOD:PUBLISH
X-ORIGINAL-URL:https://oralleebrownfoundation.org
X-WR-CALDESC:Events for Oral Lee Brown Foundation
REFRESH-INTERVAL;VALUE=DURATION:PT1H
X-Robots-Tag:noindex
X-PUBLISHED-TTL:PT1H
BEGIN:VTIMEZONE
TZID:America/Los_Angeles
BEGIN:DAYLIGHT
TZOFFSETFROM:-0800
TZOFFSETTO:-0700
TZNAME:PDT
DTSTART:20240310T100000
END:DAYLIGHT
BEGIN:STANDARD
TZOFFSETFROM:-0700
TZOFFSETTO:-0800
TZNAME:PST
DTSTART:20241103T090000
END:STANDARD
BEGIN:DAYLIGHT
TZOFFSETFROM:-0800
TZOFFSETTO:-0700
TZNAME:PDT
DTSTART:20250309T100000
END:DAYLIGHT
BEGIN:STANDARD
TZOFFSETFROM:-0700
TZOFFSETTO:-0800
TZNAME:PST
DTSTART:20251102T090000
END:STANDARD
BEGIN:DAYLIGHT
TZOFFSETFROM:-0800
TZOFFSETTO:-0700
TZNAME:PDT
DTSTART:20260308T100000
END:DAYLIGHT
BEGIN:STANDARD
TZOFFSETFROM:-0700
TZOFFSETTO:-0800
TZNAME:PST
DTSTART:20261101T090000
END:STANDARD
BEGIN:DAYLIGHT
TZOFFSETFROM:-0800
TZOFFSETTO:-0700
TZNAME:PDT
DTSTART:20270314T100000
END:DAYLIGHT
BEGIN:STANDARD
TZOFFSETFROM:-0700
TZOFFSETTO:-0800
TZNAME:PST
DTSTART:20271107T090000
END:STANDARD
END:VTIMEZONE
BEGIN:VEVENT
DTSTART;TZID=America/Los_Angeles:20250601T180000
DTEND;TZID=America/Los_Angeles:20250718T180000
DTSTAMP:20260425T035504
CREATED:20250606T114117Z
LAST-MODIFIED:20250606T190038Z
UID:7219-1748800800-1752861600@oralleebrownfoundation.org
SUMMARY:The Oral Lee Brown Foundation's 38th Annual Scholarship Auction & Banquet
DESCRIPTION:The Oral Lee Brown Foundation relies on donations to continue its mission. Click the Donate button to contribute using a credit card or transfer funds from an existing PayPal account. We are a non-profit 501 (c) (3) Employer Identification Number (EIN) is 94-3115273. An Oakland California educational charity.
URL:https://oralleebrownfoundation.org/event/the-oral-lee-brown-foundations-38th-annual-scholarship-auction-banquet/
LOCATION:Berkeley Marina Double Tree\, 200 Marina Blvd\, Berkeley\, CA\, 94710\, United States
ORGANIZER;CN="Oral Lee Brown Foundation":MAILTO:olbrown214 @yahoo.com
END:VEVENT
BEGIN:VEVENT
DTSTART;TZID=America/Los_Angeles:20260516T080000
DTEND;TZID=America/Los_Angeles:20260516T110000
DTSTAMP:20260425T035504
CREATED:20260126T194131Z
LAST-MODIFIED:20260223T144302Z
UID:7533-1778918400-1778929200@oralleebrownfoundation.org
SUMMARY:23rd Annual Walk-A-Thon
DESCRIPTION:
URL:https://oralleebrownfoundation.org/event/23rd-annual-walk-a-thon/
LOCATION:Lake Merritt Childrens Fairyland Grassy Area\, 699 Bellevue Ave\, Oakland\, CA\, 94610\, United States
ATTACH;FMTTYPE=application/pdf:https://oralleebrownfoundation.org/wp-content/uploads/2026/01/Scan2026-02-22_074211.pdf
END:VEVENT
BEGIN:VEVENT
DTSTART;TZID=America/Los_Angeles:20260717T180000
DTEND;TZID=America/Los_Angeles:20260717T180000
DTSTAMP:20260425T035504
CREATED:20260126T191848Z
LAST-MODIFIED:20260223T144301Z
UID:7509-1784311200-1784311200@oralleebrownfoundation.org
SUMMARY:The Oral Lee Brown Foundation's 39th Annual Scholarship Banquet and Auction
DESCRIPTION:
URL:https://oralleebrownfoundation.org/event/the-oral-lee-brown-foundations-39th-annual-scholarship-banquet-and-auction-2/
LOCATION:Berkeley Marina Double Tree\, 200 Marina Blvd\, Berkeley\, CA\, 94710\, United States
ATTACH;FMTTYPE=image/png:https://oralleebrownfoundation.org/wp-content/uploads/2026/01/Save-The-Date-71726.png
END:VEVENT
END:VCALENDAR